BEGIN:VCALENDAR
VERSION:2.0
PRODID:-//When Shift Happens - ECPv5.9.1//NONSGML v1.0//EN
CALSCALE:GREGORIAN
METHOD:PUBLISH
X-WR-CALNAME:When Shift Happens
X-ORIGINAL-URL:https://whenshifthappens.org
X-WR-CALDESC:Events for When Shift Happens
BEGIN:VTIMEZONE
TZID:America/Chicago
BEGIN:DAYLIGHT
TZOFFSETFROM:-0600
TZOFFSETTO:-0500
TZNAME:CDT
DTSTART:20200308T080000
END:DAYLIGHT
BEGIN:STANDARD
TZOFFSETFROM:-0500
TZOFFSETTO:-0600
TZNAME:CST
DTSTART:20201101T070000
END:STANDARD
END:VTIMEZONE
BEGIN:VEVENT
DTSTART;TZID=America/Chicago:20200127T180000
DTEND;TZID=America/Chicago:20200127T190000
DTSTAMP:20260425T110403
CREATED:20191231T221202Z
LAST-MODIFIED:20200504T233736Z
UID:1520-1580148000-1580151600@whenshifthappens.org
SUMMARY:FREE Sleep Hygiene and Why Sleep is the Most Important Life Change (ZOOM ONLY)
DESCRIPTION:How well do you sleep? Do you have difficulty falling asleep?  Do you wake up in the middle of the night? Do you stay up too late and get up too early? \n\n\n\n\nWe spend approximately one-third of our lives asleep. This leads to the essential question: why do we need sleep? What is clear is that quality sleep is a staple of optimal health. But even though we know this\, many of us are not making time for quality sleep. Because of busy lifestyles\, we do not truly receive the health benefits of sleep. \nAs we drift off to sleep\, our bodies begin their night-shift work. This is the time when it detoxifies and clears itself of physical toxins and processes daily emotions. This is what we miss out on when we miss sleep: \n\nHormone regulation and healing of damaged cells\nRestoring and boosting the immune system\nRecovering from daily activities and processing stressful emotions\nRecharging the heart and cardiovascular system for the next day\n\nSleep is a natural time for the body and mind to rest\, reset\, detoxify\, and rejuvenate \nIf the body doesn’t get a chance to reset and rest\, it starts the next day at a disadvantage. You may feel: \n\nDrowsy\, irritable\, anxious\, and sometimes depressed\nStruggling to process new information at work with difficulty remembering or making decisions.\nCraving more unhealthy foods\, causing weight gain\nFeel off and emotionally reactive\n\nIf this recurs night after night\, it places a tremendous strain on the nervous system and body\, impairing overall health. If you are not sleeping well or aren’t feeling rested when you wake up in the morning\, it’s important to make lifestyle changes to support better sleep and find a routine that works in your schedule. \nThe truth is that inconsistent sleep patterns can be very discouraging and getting back on track can feel daunting. But with the right set of tools\, it is possible to find and return to balance. We will talk about a simple and practical approach to balancing sleep cycles. \nOur Focus for Discussion: \n\nWhat is optimal sleep?\nWhat happens during sleep?\nPractices to fall asleep or resume sleep after waking up\nSleep hygiene\nBedroom atmosphere\n\n\n\nMay 7th 6:15PM-7:15PM – To Register
URL:https://whenshifthappens.org/event/free-sleep-hygiene-and-why-sleep-is-the-most-important-life-change-anoka-soul-studio/2020-01-27/
LOCATION:Anoka Yoga and Welness\, 1920 1st Ave\, Anoka\, MN\, 55303
CATEGORIES:Ayurveda Workshops,Educational Information
ORGANIZER;CN="Kamie%20Slegers":MAILTO:kamieslegers@gmail.com
END:VEVENT
END:VCALENDAR