BEGIN:VCALENDAR
VERSION:2.0
PRODID:-//When Shift Happens - ECPv5.9.1//NONSGML v1.0//EN
CALSCALE:GREGORIAN
METHOD:PUBLISH
X-WR-CALNAME:When Shift Happens
X-ORIGINAL-URL:https://whenshifthappens.org
X-WR-CALDESC:Events for When Shift Happens
BEGIN:VTIMEZONE
TZID:America/Chicago
BEGIN:DAYLIGHT
TZOFFSETFROM:-0600
TZOFFSETTO:-0500
TZNAME:CDT
DTSTART:20200308T080000
END:DAYLIGHT
BEGIN:STANDARD
TZOFFSETFROM:-0500
TZOFFSETTO:-0600
TZNAME:CST
DTSTART:20201101T070000
END:STANDARD
END:VTIMEZONE
BEGIN:VEVENT
DTSTART;TZID=America/Chicago:20200319T183000
DTEND;TZID=America/Chicago:20200319T193000
DTSTAMP:20260425T094117
CREATED:20200220T220919Z
LAST-MODIFIED:20200422T194000Z
UID:1840-1584642600-1584646200@whenshifthappens.org
SUMMARY:FREE Happy Belly Nourished Life: Nutrition Talk - ZOOM ONLY
DESCRIPTION:Ayurveda is a wellness system of medicine that has helped people achieve optimal health and overall wellness for more than 5\,000 years. Help yourself naturally find your optimal health and weight through proper nutrition and lifestyle decisions as you move to a state of balanced health. This is achieved through the union of your body\, mind\, emotions\, and spirit with an approach that is unique\, insightful\, and realistic. \n\n\n\n\n\n\nOur culture’s ideology of the human body is superficial. It influences how we feel about our personal body type\, causing a misunderstanding of what our bodies really need to thrive. Ultimately\, this affects our self-esteem and our perception of self. \n\n\nApril 30th 6:15PM-7:15PM – To Register
URL:https://whenshifthappens.org/event/happy-belly-nourished-life-nutrition-talk-ne-wellness/2020-03-19/
LOCATION:ZOOM EVENT\, ONLINE
CATEGORIES:Ayurveda Workshops,Educational Information
ORGANIZER;CN="Kamie%20Slegers":MAILTO:kamieslegers@gmail.com
END:VEVENT
END:VCALENDAR