BEGIN:VCALENDAR
VERSION:2.0
PRODID:-//When Shift Happens - ECPv5.9.1//NONSGML v1.0//EN
CALSCALE:GREGORIAN
METHOD:PUBLISH
X-WR-CALNAME:When Shift Happens
X-ORIGINAL-URL:https://whenshifthappens.org
X-WR-CALDESC:Events for When Shift Happens
BEGIN:VTIMEZONE
TZID:America/Chicago
BEGIN:DAYLIGHT
TZOFFSETFROM:-0600
TZOFFSETTO:-0500
TZNAME:CDT
DTSTART:20200308T080000
END:DAYLIGHT
BEGIN:STANDARD
TZOFFSETFROM:-0500
TZOFFSETTO:-0600
TZNAME:CST
DTSTART:20201101T070000
END:STANDARD
END:VTIMEZONE
BEGIN:VEVENT
DTSTART;TZID=America/Chicago:20201111T180000
DTEND;TZID=America/Chicago:20201111T190000
DTSTAMP:20260424T203142
CREATED:20201021T214035Z
LAST-MODIFIED:20201026T165549Z
UID:8477-1605117600-1605121200@whenshifthappens.org
SUMMARY:The Shift Show: Building CommUnity and Wellness One Step at a Time with Kamie and Guest Speaker Theresa
DESCRIPTION:ZOOM IN LIVE \nFrom Stressed Out to Blissed Out in Five Steps\, Theresa will talk about breathwork basics and use specific tools to restore inner peace and calm. It’s like hitting the emotional reset button! \n\nTheresa Lease is a life-long listener and spiritual seeker. After years on the amateur circuit being a sounding board for friends and family\, she’s now gone pro as a life coach. She earned her bachelor’s degree from the University of Nebraska-Lincoln and then spent much of her adult life raising her family while moving from state to state. She has worked in a wide variety of positions from Assistant Director of Corporate Communications for Burlington Northern Santa Fe Railroad to Operations Manager at a shoe store. Her life was unexpectedly derailed by the ending of her marriage in 2004. The depression she experienced coping with that loss led her to the writings of Martha Beck\, which inspired her to take Martha’s life coach training. In January of 2020\, she added Breathwork to her practice\, and it has since become her main focus in helping people transform their lives by reducing their suffering\, reconnecting to their bodies\, and finding joy in life again. Theresa lives in Andover\, MN\, where she loves singing and dancing around the house and blissfully watching the wildlife that frequent her backyard.  \n\nZOOM IN LIVE CLICK HERE!
URL:https://whenshifthappens.org/event/the-shift-show-building-community-and-wellness-one-step-at-a-time-tba-with-theresa/
LOCATION:ZOOM EVENT\, ONLINE
CATEGORIES:Educational Information
ORGANIZER;CN="When%20Shift%20Happens":MAILTO:kamieslegers@gmail.com
END:VEVENT
END:VCALENDAR