BEGIN:VCALENDAR
VERSION:2.0
PRODID:-//When Shift Happens - ECPv5.9.1//NONSGML v1.0//EN
CALSCALE:GREGORIAN
METHOD:PUBLISH
X-WR-CALNAME:When Shift Happens
X-ORIGINAL-URL:https://whenshifthappens.org
X-WR-CALDESC:Events for When Shift Happens
BEGIN:VTIMEZONE
TZID:America/Chicago
BEGIN:DAYLIGHT
TZOFFSETFROM:-0600
TZOFFSETTO:-0500
TZNAME:CDT
DTSTART:20200308T080000
END:DAYLIGHT
BEGIN:STANDARD
TZOFFSETFROM:-0500
TZOFFSETTO:-0600
TZNAME:CST
DTSTART:20201101T070000
END:STANDARD
END:VTIMEZONE
BEGIN:VEVENT
DTSTART;TZID=America/Chicago:20201116T180000
DTEND;TZID=America/Chicago:20201116T184500
DTSTAMP:20260424T203437
CREATED:20201026T175726Z
LAST-MODIFIED:20201114T210020Z
UID:8507-1605549600-1605552300@whenshifthappens.org
SUMMARY:Building CommUnity and Wellness One Step at a Time: Breast Health Latest Research and the Importance of a Healthy Lifestyle with Kamie
DESCRIPTION:ZOOM IN LIVE! \n\n\nTalk: November 16th and 18th – Both sessions will have different information. \nResearch shows that a healthy lifestyle reduces the chances of breast cancer by up to 34%. \nIs this a surprise? Now take a look at how we take advantage of beautiful bodies and abuse their abilities to heal naturally. \nI understand that lifestyle changes and creating a routine can appear complicated and confusing. I have struggled with the same excuses and distractions most of my life. After I turned 40\, my view of myself and what I wanted my life to look like became very different. My focus went from instant gratification and accumulation to how I can live a healthy\, impactful life and enjoy it for the next 50 years. \nI have been teaching the wisdom of Ayurveda for over ten years. It focuses heavily on lifestyle\, routine\, and the importance of following nature’s laws to maintain harmony and balance. But if we go against the natural rhythms\, disease and illness will happen. Here is some research that I came across focused on the importance of a healthy lifestyle and reducing our breast cancer chances. \nOne of the notable lifestyle factors is a healthy plant-based diet; this does not mean a vegetarian diet. It means more vegetables\, fruits\, and nonanimal proteins than mostly meat-based. Furthermore\, diets that are high in inflammatory foods such as sugar\, highly processed food\, red meat\, and high in fat put women at a higher risk of breast cancer\, according to a study written in the Cancer Epidemiology\, Biomarkers\, and Prevention Journal. The study was conducted on 45\,000 women over 22 years. The research showed that 870 women were diagnosed with premenopausal breast cancer\, and 490 were diagnosed with postmenopausal breast cancer. The numbers might not sound significant until they added into the equation who ate the highest inflammatory foods; the numbers were staggering. \nIn another similar study\, avoiding risk factors such as being overweight\, shift work\, stress\, hormone therapy\, unhealthy diet\, lack of activity\, drugs (including alcohol and cigarettes)\, and making better lifestyle choices could reduce the risk of postmenopausal breast cancer by up to 34%. \nFinally\, in a nine-year study\, 17\,000 menopausal women who did not use hormone therapy and had an unhealthy lifestyle were compared to a group of women who had a healthy lifestyle. The result concluded that the women who had unhealthy lifestyles increased their chance of postmenopausal breast cancer by two-times and had a higher mortality rate. \nLadies\, it is time to acknowledge the importance of lifestyle and self-care. This research reinforces my desire and excitement to inform women why it is crucial to choose a healthier lifestyle and create a routine before it is too late. \nI will have a series of events covering lifestyle\, breathing\, and yoga for breast health. Visit the events page for dates and times. https://whenshifthappens.org/events/ \nI am also offering a year-long program in 2021\, supporting women on their journey to better sleep\, more energy\, hormone health\, lifestyle\, and building a routine. Together we will cover many topics and will have practices to go along with each. More to come… \nhttps://cebp.aacrjournals.org/content/early/2010/02/24/1055-9965.EPI-09-0802?versioned=true \nhttps://www.ncbi.nlm.nih.gov/pmc/articles/PMC7275030/ \nhttps://www.sciencedaily.com/releases/2017/03/170301084945.htm \nhttps://www.nejm.org/doi/full/10.1056/nejmoa0807684 \nhttps://jamanetwork.com/journals/jama/fullarticle/193665 \n\n\n\nZOOM IN LIVE CLICK HERE! 
URL:https://whenshifthappens.org/event/building-community-and-wellness-one-step-at-a-time-breast-health-latest-research-and-the-importance-of-a-healthy-lifestyle-with-kamie/
LOCATION:ZOOM EVENT\, ONLINE
CATEGORIES:Ayurveda Workshops,Educational Information
ORGANIZER;CN="When%20Shift%20Happens":MAILTO:kamieslegers@gmail.com
END:VEVENT
END:VCALENDAR