BEGIN:VCALENDAR
VERSION:2.0
PRODID:-//When Shift Happens - ECPv5.9.1//NONSGML v1.0//EN
CALSCALE:GREGORIAN
METHOD:PUBLISH
X-WR-CALNAME:When Shift Happens
X-ORIGINAL-URL:https://whenshifthappens.org
X-WR-CALDESC:Events for When Shift Happens
BEGIN:VTIMEZONE
TZID:America/Chicago
BEGIN:DAYLIGHT
TZOFFSETFROM:-0600
TZOFFSETTO:-0500
TZNAME:CDT
DTSTART:20200308T080000
END:DAYLIGHT
BEGIN:STANDARD
TZOFFSETFROM:-0500
TZOFFSETTO:-0600
TZNAME:CST
DTSTART:20201101T070000
END:STANDARD
END:VTIMEZONE
BEGIN:VEVENT
DTSTART;TZID=America/Chicago:20201130T180000
DTEND;TZID=America/Chicago:20201130T184500
DTSTAMP:20260424T192056
CREATED:20201026T182019Z
LAST-MODIFIED:20201124T194945Z
UID:8513-1606759200-1606761900@whenshifthappens.org
SUMMARY:Building CommUnity and Wellness One Step at a Time: Stress and Hormones with Kamie and Jenna
DESCRIPTION:ZOOM IN LIVE! \n\nSociety places a badge of honor on those who are over-committed and upholding a busy life. With continual outside pressure\, the adrenal glands have to work overtime to make enough stress hormones to sustain the chronic cycle. \nOur body struggles to balance the increased adrenaline levels and cortisol levels in the bloodstream throughout a stressful day due to constant sympathetic nervous system activation. Our body’s natural response is to increase balancing hormones with opposing energies (i.e.\, estrogen\, progesterone\, testosterone). In turn\, this puts a strain on our adrenal glands and hormonal systems. Eventually\, our bodies can’t keep up with the demand. \nAt first\, our endocrine system signals that something is off\, but eventually\, more severe health concerns show up\, such as weakened immunity\, digestive issues\, anxiety\, depression\, hormonal imbalances\, and more. \nJoin Kamie as she explains what the hormones in our body do and simple practices to activate the parasympathetic nervous system (rest and digest) to stop the sympathetic (stress response) from starting. \n\nZOOM IN LIVE CLICK HERE! 
URL:https://whenshifthappens.org/event/building-community-and-wellness-one-step-at-a-time-stress-and-hormones-with-kamie-and-jenna/
LOCATION:ZOOM EVENT\, ONLINE
CATEGORIES:Ayurveda Workshops,Educational Information
ORGANIZER;CN="When%20Shift%20Happens":MAILTO:kamieslegers@gmail.com
END:VEVENT
END:VCALENDAR