BEGIN:VCALENDAR
VERSION:2.0
PRODID:-//When Shift Happens - ECPv5.9.1//NONSGML v1.0//EN
CALSCALE:GREGORIAN
METHOD:PUBLISH
X-WR-CALNAME:When Shift Happens
X-ORIGINAL-URL:https://whenshifthappens.org
X-WR-CALDESC:Events for When Shift Happens
BEGIN:VTIMEZONE
TZID:America/Chicago
BEGIN:DAYLIGHT
TZOFFSETFROM:-0600
TZOFFSETTO:-0500
TZNAME:CDT
DTSTART:20200308T080000
END:DAYLIGHT
BEGIN:STANDARD
TZOFFSETFROM:-0500
TZOFFSETTO:-0600
TZNAME:CST
DTSTART:20201101T070000
END:STANDARD
END:VTIMEZONE
BEGIN:VEVENT
DTSTART;TZID=America/Chicago:20201207T180000
DTEND;TZID=America/Chicago:20201207T184500
DTSTAMP:20260424T192336
CREATED:20201026T182504Z
LAST-MODIFIED:20201119T205728Z
UID:8517-1607364000-1607366700@whenshifthappens.org
SUMMARY:Building CommUnity and Wellness One Step at a Time: Immunity with Kamie and Jenna
DESCRIPTION:ZOOM IN LIVE!  \n\nWhen our immune system is compromised\, we need to ask ourselves why? And are we willing to change the course we are on and correct the underlying problems—whatever they maybe? ~Kamie Slegers \nAccording to Ayurveda\, strong immunity is a product of good digestion\, quality liver functioning\, and appropriately balanced hormones. \nWe’ve all experienced our body crashing\, and our health deteriorates as we fall to the inconvenience of a cold\, the flu\, allergies\, or COVID. Most of us would rather not get sick\, and given a choice\, who would refuse a robust immune system? We all want to be healthy to avoid illness and disease. So\, how do we support our immunity? \nAyurveda teaches us that Ojas (vitality) and immunity are the natural outcomes of optimal health\, which depends on a strong digestive fire (Agni)\, a healthy diet\, a supportive lifestyle\, and a balanced nervous system. With this knowledge\, supporting our immune system is often more about necessary self-care than anything else. Our bodies thrive with proper nutrition and adequate sleep; they do even better when we commit to stress management\, cultivate healthy relationships\, embrace joy and purpose\, and living in alignment with our authentic self.\nWe will cover a few basics to give you a foundation for building your immunity and some tip on what herbs and supplements are also helpful. \nThe research that I have studied comes from eastern and western perspectives. I am fortunate to live when Western medicine is providing guidelines and practices that eastern medicine has been implementing for thousands of years. \n\nZOOM IN LIVE CLICK HERE! 
URL:https://whenshifthappens.org/event/building-community-and-wellness-one-step-at-a-time-immunity-with-kamie-and-jenna/
LOCATION:ZOOM EVENT\, ONLINE
CATEGORIES:Ayurveda Workshops,Educational Information
ORGANIZER;CN="When%20Shift%20Happens":MAILTO:kamieslegers@gmail.com
END:VEVENT
END:VCALENDAR