BEGIN:VCALENDAR
VERSION:2.0
PRODID:-//When Shift Happens - ECPv5.9.1//NONSGML v1.0//EN
CALSCALE:GREGORIAN
METHOD:PUBLISH
X-WR-CALNAME:When Shift Happens
X-ORIGINAL-URL:https://whenshifthappens.org
X-WR-CALDESC:Events for When Shift Happens
BEGIN:VTIMEZONE
TZID:America/Chicago
BEGIN:DAYLIGHT
TZOFFSETFROM:-0600
TZOFFSETTO:-0500
TZNAME:CDT
DTSTART:20200308T080000
END:DAYLIGHT
BEGIN:STANDARD
TZOFFSETFROM:-0500
TZOFFSETTO:-0600
TZNAME:CST
DTSTART:20201101T070000
END:STANDARD
END:VTIMEZONE
BEGIN:VEVENT
DTSTART;TZID=America/Chicago:20201209T180000
DTEND;TZID=America/Chicago:20201209T190000
DTSTAMP:20260424T192625
CREATED:20201026T183608Z
LAST-MODIFIED:20201124T202127Z
UID:8519-1607536800-1607540400@whenshifthappens.org
SUMMARY:Building CommUnity and Wellness One Step at a Time: Women's Health Transformation Program Q&A with Kamie and Jenna
DESCRIPTION:ZOOM IN LIVE!  \n\nI struggle with fear and misinformation surrounding health and wellness\, especially concerning the female reproductive system. We are taught that our menstrual cycles are a curse–that we should dread it–and that menopausal symptoms are unavoidable. This couldn’t be further from the truth\, and it makes me worried about the future of womanhood. \nWe live in fear of “what-if” scenarios. What if I can’t conceive? What if I have cramps and heavy periods my whole menstruating life? What if menopause is unbearable? \nDid you know that our menstrual cycles are a way for our bodies to detoxify? It is a valuable indicator of what could be out of balance during the previous month. The ancient ayurvedic text writes that the uterus cries when we bleed because it didn’t bear a child. I love knowing that. \nAs women now in our 40s\, I feel that we have a disconnect from our authentic selves\, fertility\, menstrual cycles\, and what it means to age gracefully. Reconnecting with what it means to be a woman has been vital in my life as I process my miscarriage\, divorce\, heavy periods\, and sexual trauma. I didn’t heal until I took the time to connect with nature’s rhythms and my cycle. Only then could I uncover my past and embrace what it means to be a woman. \nLadies\, we need to understand how to adapt to changes\, welcome our bodies’ signals to heal\, and surrender to their cries. We also need to fully explore our emotions\, desires\, urges\, and the past. \nIt takes real courage to do things differently–to stop avoiding self-care\, running from the past\, pushing beyond our limits\, trying to please everyone\, and spreading ourselves too thin. Stop looking outside yourself for satisfaction. Connect with yourself and have the life you deserve to enjoy.  \nDo you want a life with more joy and less stress? Join me on a journey of education\, supportive practices\, and community. It is time to educate yourself and take action\, and I am here to guide you along your journey. \n\nZOOM IN LIVE CLICK HERE!
URL:https://whenshifthappens.org/event/building-community-and-wellness-one-step-at-a-time-womens-health-transformation-program-qa-with-kamie-and-jenna/
LOCATION:ZOOM EVENT\, ONLINE
CATEGORIES:Ayurveda Workshops,Educational Information
ORGANIZER;CN="When%20Shift%20Happens":MAILTO:kamieslegers@gmail.com
END:VEVENT
END:VCALENDAR