BEGIN:VCALENDAR
VERSION:2.0
PRODID:-//When Shift Happens - ECPv5.9.1//NONSGML v1.0//EN
CALSCALE:GREGORIAN
METHOD:PUBLISH
X-WR-CALNAME:When Shift Happens
X-ORIGINAL-URL:https://whenshifthappens.org
X-WR-CALDESC:Events for When Shift Happens
BEGIN:VTIMEZONE
TZID:America/Chicago
BEGIN:DAYLIGHT
TZOFFSETFROM:-0600
TZOFFSETTO:-0500
TZNAME:CDT
DTSTART:20210314T080000
END:DAYLIGHT
BEGIN:STANDARD
TZOFFSETFROM:-0500
TZOFFSETTO:-0600
TZNAME:CST
DTSTART:20211107T070000
END:STANDARD
END:VTIMEZONE
BEGIN:VEVENT
DTSTART;TZID=America/Chicago:20210303T190000
DTEND;TZID=America/Chicago:20210303T193000
DTSTAMP:20260424T144803
CREATED:20210225T212615Z
LAST-MODIFIED:20210225T212710Z
UID:11359-1614798000-1614799800@whenshifthappens.org
SUMMARY:FREE Wellness Wednesday Event: Digest This! Digestion 101  with Kamie
DESCRIPTION:Wednesday\, March 3rd\, 7:00-7:30 PM   \nZOOM IN LIVE \nDigestive health is becoming a hot topic in the health and wellness world right now. Chances are\, we all know someone who has some form of digestive distress. The way we eat and how we eat has transformed dramatically in the last decade. Moving away from whole foods grown in nature\, prepared with care\, and eaten mindfully without distraction has given way to processed\, fad diets\, fast foods cooked in a microwave and eaten in a rush or on the couch in front of a TV.  \nIn Ayurveda\, meal timing\, food preparation\, and consumption are as important as the specific foods we eat. This is particularly important as your digestion quality is the biggest key to your overall health. \n\nWhat Diet Means in Ayurveda? \nDaily Routine and Moderation \nOur Body and Digestion \nDigestive Issues and Ama\nThe Power of Foods and The Six Tastes\nHelpful Hints to Get Started
URL:https://whenshifthappens.org/event/free-wellness-wednesday-event-digest-this-digestion-101-with-kamie/
CATEGORIES:Ayurveda Workshops,Cleanse/Detox Event,Educational Information
END:VEVENT
END:VCALENDAR